BEGIN:VCALENDAR
VERSION:2.0
PRODID:-//Restaurant Brasserie Lorraine - ECPv6.15.20//NONSGML v1.0//EN
CALSCALE:GREGORIAN
METHOD:PUBLISH
X-WR-CALNAME:Restaurant Brasserie Lorraine
X-ORIGINAL-URL:https://brasserie-lorraine.ch
X-WR-CALDESC:Veranstaltungen für Restaurant Brasserie Lorraine
REFRESH-INTERVAL;VALUE=DURATION:PT1H
X-Robots-Tag:noindex
X-PUBLISHED-TTL:PT1H
BEGIN:VTIMEZONE
TZID:Europe/Berlin
BEGIN:DAYLIGHT
TZOFFSETFROM:+0100
TZOFFSETTO:+0200
TZNAME:CEST
DTSTART:20230326T010000
END:DAYLIGHT
BEGIN:STANDARD
TZOFFSETFROM:+0200
TZOFFSETTO:+0100
TZNAME:CET
DTSTART:20231029T010000
END:STANDARD
BEGIN:DAYLIGHT
TZOFFSETFROM:+0100
TZOFFSETTO:+0200
TZNAME:CEST
DTSTART:20240331T010000
END:DAYLIGHT
BEGIN:STANDARD
TZOFFSETFROM:+0200
TZOFFSETTO:+0100
TZNAME:CET
DTSTART:20241027T010000
END:STANDARD
BEGIN:DAYLIGHT
TZOFFSETFROM:+0100
TZOFFSETTO:+0200
TZNAME:CEST
DTSTART:20250330T010000
END:DAYLIGHT
BEGIN:STANDARD
TZOFFSETFROM:+0200
TZOFFSETTO:+0100
TZNAME:CET
DTSTART:20251026T010000
END:STANDARD
END:VTIMEZONE
BEGIN:VEVENT
DTSTART;TZID=Europe/Berlin:20241103T100000
DTEND;TZID=Europe/Berlin:20241103T140000
DTSTAMP:20260420T220531
CREATED:20241029T203336Z
LAST-MODIFIED:20241029T203336Z
UID:5695-1730628000-1730642400@brasserie-lorraine.ch
SUMMARY:Quiches Spez Brunch
DESCRIPTION:Spez-Brunch in der Brass! Lass dich von unseren Quiche-Variationen überraschen. Gibts wohl eine Quiche Lorraine? \nAuch das „klassische“ Brunchangebot steht zur Auswahl. Alles vegi und vegan.
URL:https://brasserie-lorraine.ch/event/quiches-spez-brunch/
LOCATION:Brasserie Lorraine\, Quartiergasse 17\, Bern
CATEGORIES:Spez-Brunch
ATTACH;FMTTYPE=image/jpeg:https://brasserie-lorraine.ch/wp-content/uploads/2024/10/photo_2024-10-29_21-25-42.jpg
END:VEVENT
END:VCALENDAR