BEGIN:VCALENDAR
VERSION:2.0
PRODID:-//Restaurant Brasserie Lorraine - ECPv6.15.20//NONSGML v1.0//EN
CALSCALE:GREGORIAN
METHOD:PUBLISH
X-ORIGINAL-URL:https://brasserie-lorraine.ch
X-WR-CALDESC:Veranstaltungen für Restaurant Brasserie Lorraine
REFRESH-INTERVAL;VALUE=DURATION:PT1H
X-Robots-Tag:noindex
X-PUBLISHED-TTL:PT1H
BEGIN:VTIMEZONE
TZID:Europe/Berlin
BEGIN:DAYLIGHT
TZOFFSETFROM:+0100
TZOFFSETTO:+0200
TZNAME:CEST
DTSTART:20240331T010000
END:DAYLIGHT
BEGIN:STANDARD
TZOFFSETFROM:+0200
TZOFFSETTO:+0100
TZNAME:CET
DTSTART:20241027T010000
END:STANDARD
BEGIN:DAYLIGHT
TZOFFSETFROM:+0100
TZOFFSETTO:+0200
TZNAME:CEST
DTSTART:20250330T010000
END:DAYLIGHT
BEGIN:STANDARD
TZOFFSETFROM:+0200
TZOFFSETTO:+0100
TZNAME:CET
DTSTART:20251026T010000
END:STANDARD
BEGIN:DAYLIGHT
TZOFFSETFROM:+0100
TZOFFSETTO:+0200
TZNAME:CEST
DTSTART:20260329T010000
END:DAYLIGHT
BEGIN:STANDARD
TZOFFSETFROM:+0200
TZOFFSETTO:+0100
TZNAME:CET
DTSTART:20261025T010000
END:STANDARD
END:VTIMEZONE
BEGIN:VEVENT
DTSTART;TZID=Europe/Berlin:20250523T210000
DTEND;TZID=Europe/Berlin:20250524T030000
DTSTAMP:20260422T174705
CREATED:20250507T141021Z
LAST-MODIFIED:20250507T141021Z
UID:6301-1748034000-1748055600@brasserie-lorraine.ch
SUMMARY:Soliparty
DESCRIPTION:Soliparty für und in der Brass – weil immer noch nötig <3<3<3 \n23.05.2025 // Doors: 21:00 Uhr // Abendkasse only \nAlwa AlibiFür Estelle Plüss\, besser bekannt als Alwa Alibi\, steht die Musik seit 15 Jahren an erster Stelle. Seit fünf Jahren tritt die Bernerin auf grossen und kleinen Bühnen auf. Ihre Leidenschaft für Mundart-Rap brennt schon seit einem Jahrzehnt. Bereits im Kindergarten schrieb sie seitenweise Texte\, und heute sind ihre Worte ihre stärkste Verbindung zwischen der Innen- und der Aussenwelt. Alwa Alibis erstes Album „Vo müede Fische und stiue Ching“ wurde zusammen mit Simone Gfeller (Simo Saster) produziert und im August 2022 veröffentlicht. Im April 2023 folgte ihr zweites Album „POOL“\, das mit hohen Tönen\, Harmonien und Mehrstimmigkeit Themen wie Beziehungen\, Traurigkeit und Verlorenheit erforscht. Erforsche gemeinsam mit Alwa Alibi ihren Sound! \nhttps://www.youtube.com/watch?v=XmRjWw67Tao \nBig Zis \n\n\n\n\n \nDie Zürcher Rapperin Big Zis mischt bereits seit Ende der 1990er Jahre mit schlauen Texten\, lustigen Punchlines und provokativer Attitüde das männerdominierte Schweizer Rapgame auf. Sie hat mehrere Alben aufgenommen\, ein preisgekröntes Musikvideo gedreht\, von Antifa-demo bis Hochkulturinstitution so ziemlich jede Schweizer Bühne bespielt und den Schweizer Musikpreis 2020 sowie 2021 den Zürcher Kunstpreis bekommen. Musikalisch verbindet sie Hip-Hop mit Jazz\, Punk und Improvisation in eine wortgewaltige und zugleich tanzbare Rebellion gegen längst überholte gesellschaftliche Normen und die patriarchale Ordnung und liefert damit ein dringliches\, cleveres\, humorvolles und provokantes Werk\, das so in der Musiklandschaft Schweiz einzigartig da steht… BITTE IN GROSS also! (Album “B:I:G” veröffentlicht seit 6.September 2024) \n\nhttps://www.youtube.com/watch?v=7zOfz-nbWdQ \nAfterparty mit Wildreis \n \ncarbs on tunes: wildreis from Bern/Basel/Genève switches between genres with a focus on queerfeminist messages creating a whirlpool of heavy rhythms and fun melodies inviting everybody to dance and maybe even sing along 🙂 \nhttps://on.soundcloud.com/XdaFfoWDvx1cV3NS7 \n  \n\n\n\n 
URL:https://brasserie-lorraine.ch/event/soliparty-2/
LOCATION:Brasserie Lorraine\, Quartiergasse 17\, Bern
CATEGORIES:Konzerte
ATTACH;FMTTYPE=application/pdf:https://brasserie-lorraine.ch/wp-content/uploads/2025/05/Plakat_Solipartybrass-1.pdf
ORGANIZER;CN="Brasserie Lorraine Kultur":MAILTO:kultur@brasserie-lorraine.ch
END:VEVENT
END:VCALENDAR