BEGIN:VCALENDAR
VERSION:2.0
PRODID:-//Restaurant Brasserie Lorraine - ECPv6.15.20//NONSGML v1.0//EN
CALSCALE:GREGORIAN
METHOD:PUBLISH
X-ORIGINAL-URL:https://brasserie-lorraine.ch
X-WR-CALDESC:Veranstaltungen für Restaurant Brasserie Lorraine
REFRESH-INTERVAL;VALUE=DURATION:PT1H
X-Robots-Tag:noindex
X-PUBLISHED-TTL:PT1H
BEGIN:VTIMEZONE
TZID:Europe/Berlin
BEGIN:DAYLIGHT
TZOFFSETFROM:+0100
TZOFFSETTO:+0200
TZNAME:CEST
DTSTART:20230326T010000
END:DAYLIGHT
BEGIN:STANDARD
TZOFFSETFROM:+0200
TZOFFSETTO:+0100
TZNAME:CET
DTSTART:20231029T010000
END:STANDARD
BEGIN:DAYLIGHT
TZOFFSETFROM:+0100
TZOFFSETTO:+0200
TZNAME:CEST
DTSTART:20240331T010000
END:DAYLIGHT
BEGIN:STANDARD
TZOFFSETFROM:+0200
TZOFFSETTO:+0100
TZNAME:CET
DTSTART:20241027T010000
END:STANDARD
BEGIN:DAYLIGHT
TZOFFSETFROM:+0100
TZOFFSETTO:+0200
TZNAME:CEST
DTSTART:20250330T010000
END:DAYLIGHT
BEGIN:STANDARD
TZOFFSETFROM:+0200
TZOFFSETTO:+0100
TZNAME:CET
DTSTART:20251026T010000
END:STANDARD
END:VTIMEZONE
BEGIN:VEVENT
DTSTART;TZID=Europe/Berlin:20241006T100000
DTEND;TZID=Europe/Berlin:20241006T100000
DTSTAMP:20260420T234258
CREATED:20241003T133157Z
LAST-MODIFIED:20241003T134903Z
UID:5610-1728208800-1728208800@brasserie-lorraine.ch
SUMMARY:Sushi - Spez Brunch
DESCRIPTION:Samstags säufste\,\nSonntags sagste: sachte\, sachte! Selber Schuld?\nSchöne Szene-Seele\, sei sorgenfrei! \nSonntags soll Sushi serviert sein! \n  \nSushi Spez sin ser Srasserie Sorraine? Nein jetz mal ernst. Diesen Sonntag\, Brunch von zehn bis zwei\, bei uns in der Brass. Fischfrei und vegan\, nach dem Motto „sicherlich sans seafood“. Du magst gar kein Sushi? Auf Vorweisung eines Ärzt*innenlichem ich-mag-kein-sushi-attest bieten wir dir auch unser klassisches Brunch-Angebot mit Gipfeli\, Rüerei\, etc. Einewäg sind wir dankbar um deine Reservation im Voraus <3 \n 
URL:https://brasserie-lorraine.ch/event/sushi-spez-brunch/
LOCATION:Brasserie Lorraine\, Quartiergasse 17\, Bern
CATEGORIES:Spez-Brunch
ATTACH;FMTTYPE=image/png:https://brasserie-lorraine.ch/wp-content/uploads/2024/10/sushi-spez-2.png
END:VEVENT
BEGIN:VEVENT
DTSTART;TZID=Europe/Berlin:20241007T180000
DTEND;TZID=Europe/Berlin:20241007T180000
DTSTAMP:20260420T234258
CREATED:20241003T134218Z
LAST-MODIFIED:20241003T134218Z
UID:5615-1728324000-1728324000@brasserie-lorraine.ch
SUMMARY:Soli - Znacht
DESCRIPTION:
URL:https://brasserie-lorraine.ch/event/soli-znacht/
LOCATION:Brasserie Lorraine\, Quartiergasse 17\, Bern
ATTACH;FMTTYPE=image/jpeg:https://brasserie-lorraine.ch/wp-content/uploads/2024/10/IMG_20241003_153257_205.jpg
END:VEVENT
END:VCALENDAR